BEGIN:VCALENDAR
VERSION:2.0
PRODID:-//Hurlburt Field FSS - ECPv6.15.20//NONSGML v1.0//EN
CALSCALE:GREGORIAN
METHOD:PUBLISH
X-WR-CALNAME:Hurlburt Field FSS
X-ORIGINAL-URL:https://myhurlburt.com
X-WR-CALDESC:Events for Hurlburt Field FSS
REFRESH-INTERVAL;VALUE=DURATION:PT1H
X-Robots-Tag:noindex
X-PUBLISHED-TTL:PT1H
BEGIN:VTIMEZONE
TZID:America/Chicago
BEGIN:DAYLIGHT
TZOFFSETFROM:-0600
TZOFFSETTO:-0500
TZNAME:CDT
DTSTART:20250309T080000
END:DAYLIGHT
BEGIN:STANDARD
TZOFFSETFROM:-0500
TZOFFSETTO:-0600
TZNAME:CST
DTSTART:20251102T070000
END:STANDARD
BEGIN:DAYLIGHT
TZOFFSETFROM:-0600
TZOFFSETTO:-0500
TZNAME:CDT
DTSTART:20260308T080000
END:DAYLIGHT
BEGIN:STANDARD
TZOFFSETFROM:-0500
TZOFFSETTO:-0600
TZNAME:CST
DTSTART:20261101T070000
END:STANDARD
BEGIN:DAYLIGHT
TZOFFSETFROM:-0600
TZOFFSETTO:-0500
TZNAME:CDT
DTSTART:20270314T080000
END:DAYLIGHT
BEGIN:STANDARD
TZOFFSETFROM:-0500
TZOFFSETTO:-0600
TZNAME:CST
DTSTART:20271107T070000
END:STANDARD
END:VTIMEZONE
BEGIN:VEVENT
DTSTART;TZID=America/Chicago:20260317T063000
DTEND;TZID=America/Chicago:20260317T133000
DTSTAMP:20260425T164614
CREATED:20260209T132436Z
LAST-MODIFIED:20260304T121533Z
UID:10016098-1773729000-1773754200@myhurlburt.com
SUMMARY:ESM Range Balls Coupon
DESCRIPTION:ESM Perk at Oasis Café ☕⛳ \nFuel up and hit the range! When you use your ESM Card at Oasis Café\, you’ll receive a coupon for a small bucket of range balls. \nDetails: \n\nCoupon valid for 7 days\nCoupon available only at Oasis Café\nRedeem at the Pro Shop\nOasis Café hours: Monday–Friday | 6:30am–1:30pm\n\nGrab a bite\, swipe your ESM card\, and keep your swing sharp.
URL:https://myhurlburt.com/event/esm-range-balls-coupon/2026-03-17/
LOCATION:Gator Lakes Golf Course\, Bldg. 91300\, 403 Walkup Way\, Hurlburt Field\, FL\, 32544\, United States
CATEGORIES:Gator Lakes Golf Course
ATTACH;FMTTYPE=image/jpeg:https://myhurlburt.com/wp-content/uploads/ESM-Range-Bucket_1080x1080.jpg
END:VEVENT
BEGIN:VEVENT
DTSTART;TZID=America/Chicago:20260317T063000
DTEND;TZID=America/Chicago:20260317T180000
DTSTAMP:20260425T164614
CREATED:20251118T102928Z
LAST-MODIFIED:20260304T121435Z
UID:10014720-1773729000-1773770400@myhurlburt.com
SUMMARY:Spring Break on the Greens
DESCRIPTION:🌴 Spring Break on the Greens\nGator Lakes Golf Course\nMonday–Thursday\, 16–19 March \nMake Spring Break unforgettable with family time on the fairways! Bring the kids out for 9 holes of FREE junior golf and enjoy a fun\, active way to spend the week together. \n👟 Free Junior Golf Per Adult: \n\nRiding in a cart: 1 free junior with each paying adult\nWalking the course: 2 free juniors with each paying adult\n\nGrab the clubs\, soak up the sunshine\, and swing into Spring Break at Gator Lakes! ⛳🌞
URL:https://myhurlburt.com/event/spring-break-on-the-greens/2026-03-17/
LOCATION:Gator Lakes Golf Course\, Bldg. 91300\, 403 Walkup Way\, Hurlburt Field\, FL\, 32544\, United States
CATEGORIES:Gator Lakes Golf Course
ATTACH;FMTTYPE=image/jpeg:https://myhurlburt.com/wp-content/uploads/Spring-Break-on-the-Greens_1080x1080.jpg
END:VEVENT
END:VCALENDAR