BEGIN:VCALENDAR
VERSION:2.0
PRODID:-//Hurlburt Field FSS - ECPv6.15.20//NONSGML v1.0//EN
CALSCALE:GREGORIAN
METHOD:PUBLISH
X-ORIGINAL-URL:https://myhurlburt.com
X-WR-CALDESC:Events for Hurlburt Field FSS
REFRESH-INTERVAL;VALUE=DURATION:PT1H
X-Robots-Tag:noindex
X-PUBLISHED-TTL:PT1H
BEGIN:VTIMEZONE
TZID:America/Chicago
BEGIN:DAYLIGHT
TZOFFSETFROM:-0600
TZOFFSETTO:-0500
TZNAME:CDT
DTSTART:20250309T080000
END:DAYLIGHT
BEGIN:STANDARD
TZOFFSETFROM:-0500
TZOFFSETTO:-0600
TZNAME:CST
DTSTART:20251102T070000
END:STANDARD
BEGIN:DAYLIGHT
TZOFFSETFROM:-0600
TZOFFSETTO:-0500
TZNAME:CDT
DTSTART:20260308T080000
END:DAYLIGHT
BEGIN:STANDARD
TZOFFSETFROM:-0500
TZOFFSETTO:-0600
TZNAME:CST
DTSTART:20261101T070000
END:STANDARD
BEGIN:DAYLIGHT
TZOFFSETFROM:-0600
TZOFFSETTO:-0500
TZNAME:CDT
DTSTART:20270314T080000
END:DAYLIGHT
BEGIN:STANDARD
TZOFFSETFROM:-0500
TZOFFSETTO:-0600
TZNAME:CST
DTSTART:20271107T070000
END:STANDARD
END:VTIMEZONE
BEGIN:VEVENT
DTSTART;TZID=America/Chicago:20260209T063000
DTEND;TZID=America/Chicago:20260209T133000
DTSTAMP:20260425T152138
CREATED:20260209T132436Z
LAST-MODIFIED:20260304T121533Z
UID:10016062-1770618600-1770643800@myhurlburt.com
SUMMARY:ESM Range Balls Coupon
DESCRIPTION:ESM Perk at Oasis Café ☕⛳ \nFuel up and hit the range! When you use your ESM Card at Oasis Café\, you’ll receive a coupon for a small bucket of range balls. \nDetails: \n\nCoupon valid for 7 days\nCoupon available only at Oasis Café\nRedeem at the Pro Shop\nOasis Café hours: Monday–Friday | 6:30am–1:30pm\n\nGrab a bite\, swipe your ESM card\, and keep your swing sharp.
URL:https://myhurlburt.com/event/esm-range-balls-coupon/2026-02-09/
LOCATION:Gator Lakes Golf Course\, Bldg. 91300\, 403 Walkup Way\, Hurlburt Field\, FL\, 32544\, United States
CATEGORIES:Gator Lakes Golf Course
ATTACH;FMTTYPE=image/jpeg:https://myhurlburt.com/wp-content/uploads/ESM-Range-Bucket_1080x1080.jpg
END:VEVENT
BEGIN:VEVENT
DTSTART;TZID=America/Chicago:20260210T063000
DTEND;TZID=America/Chicago:20260210T133000
DTSTAMP:20260425T152138
CREATED:20260209T132436Z
LAST-MODIFIED:20260304T121533Z
UID:10016063-1770705000-1770730200@myhurlburt.com
SUMMARY:ESM Range Balls Coupon
DESCRIPTION:ESM Perk at Oasis Café ☕⛳ \nFuel up and hit the range! When you use your ESM Card at Oasis Café\, you’ll receive a coupon for a small bucket of range balls. \nDetails: \n\nCoupon valid for 7 days\nCoupon available only at Oasis Café\nRedeem at the Pro Shop\nOasis Café hours: Monday–Friday | 6:30am–1:30pm\n\nGrab a bite\, swipe your ESM card\, and keep your swing sharp.
URL:https://myhurlburt.com/event/esm-range-balls-coupon/2026-02-10/
LOCATION:Gator Lakes Golf Course\, Bldg. 91300\, 403 Walkup Way\, Hurlburt Field\, FL\, 32544\, United States
CATEGORIES:Gator Lakes Golf Course
ATTACH;FMTTYPE=image/jpeg:https://myhurlburt.com/wp-content/uploads/ESM-Range-Bucket_1080x1080.jpg
END:VEVENT
BEGIN:VEVENT
DTSTART;TZID=America/Chicago:20260211T063000
DTEND;TZID=America/Chicago:20260211T133000
DTSTAMP:20260425T152138
CREATED:20260209T132436Z
LAST-MODIFIED:20260304T121533Z
UID:10016064-1770791400-1770816600@myhurlburt.com
SUMMARY:ESM Range Balls Coupon
DESCRIPTION:ESM Perk at Oasis Café ☕⛳ \nFuel up and hit the range! When you use your ESM Card at Oasis Café\, you’ll receive a coupon for a small bucket of range balls. \nDetails: \n\nCoupon valid for 7 days\nCoupon available only at Oasis Café\nRedeem at the Pro Shop\nOasis Café hours: Monday–Friday | 6:30am–1:30pm\n\nGrab a bite\, swipe your ESM card\, and keep your swing sharp.
URL:https://myhurlburt.com/event/esm-range-balls-coupon/2026-02-11/
LOCATION:Gator Lakes Golf Course\, Bldg. 91300\, 403 Walkup Way\, Hurlburt Field\, FL\, 32544\, United States
CATEGORIES:Gator Lakes Golf Course
ATTACH;FMTTYPE=image/jpeg:https://myhurlburt.com/wp-content/uploads/ESM-Range-Bucket_1080x1080.jpg
END:VEVENT
BEGIN:VEVENT
DTSTART;TZID=America/Chicago:20260212T063000
DTEND;TZID=America/Chicago:20260212T133000
DTSTAMP:20260425T152138
CREATED:20260209T132436Z
LAST-MODIFIED:20260304T121533Z
UID:10016065-1770877800-1770903000@myhurlburt.com
SUMMARY:ESM Range Balls Coupon
DESCRIPTION:ESM Perk at Oasis Café ☕⛳ \nFuel up and hit the range! When you use your ESM Card at Oasis Café\, you’ll receive a coupon for a small bucket of range balls. \nDetails: \n\nCoupon valid for 7 days\nCoupon available only at Oasis Café\nRedeem at the Pro Shop\nOasis Café hours: Monday–Friday | 6:30am–1:30pm\n\nGrab a bite\, swipe your ESM card\, and keep your swing sharp.
URL:https://myhurlburt.com/event/esm-range-balls-coupon/2026-02-12/
LOCATION:Gator Lakes Golf Course\, Bldg. 91300\, 403 Walkup Way\, Hurlburt Field\, FL\, 32544\, United States
CATEGORIES:Gator Lakes Golf Course
ATTACH;FMTTYPE=image/jpeg:https://myhurlburt.com/wp-content/uploads/ESM-Range-Bucket_1080x1080.jpg
END:VEVENT
BEGIN:VEVENT
DTSTART;TZID=America/Chicago:20260213T063000
DTEND;TZID=America/Chicago:20260213T133000
DTSTAMP:20260425T152138
CREATED:20260209T132436Z
LAST-MODIFIED:20260304T121533Z
UID:10016066-1770964200-1770989400@myhurlburt.com
SUMMARY:ESM Range Balls Coupon
DESCRIPTION:ESM Perk at Oasis Café ☕⛳ \nFuel up and hit the range! When you use your ESM Card at Oasis Café\, you’ll receive a coupon for a small bucket of range balls. \nDetails: \n\nCoupon valid for 7 days\nCoupon available only at Oasis Café\nRedeem at the Pro Shop\nOasis Café hours: Monday–Friday | 6:30am–1:30pm\n\nGrab a bite\, swipe your ESM card\, and keep your swing sharp.
URL:https://myhurlburt.com/event/esm-range-balls-coupon/2026-02-13/
LOCATION:Gator Lakes Golf Course\, Bldg. 91300\, 403 Walkup Way\, Hurlburt Field\, FL\, 32544\, United States
CATEGORIES:Gator Lakes Golf Course
ATTACH;FMTTYPE=image/jpeg:https://myhurlburt.com/wp-content/uploads/ESM-Range-Bucket_1080x1080.jpg
END:VEVENT
BEGIN:VEVENT
DTSTART;TZID=America/Chicago:20260214T063000
DTEND;TZID=America/Chicago:20260214T133000
DTSTAMP:20260425T152138
CREATED:20260209T132436Z
LAST-MODIFIED:20260304T121533Z
UID:10016067-1771050600-1771075800@myhurlburt.com
SUMMARY:ESM Range Balls Coupon
DESCRIPTION:ESM Perk at Oasis Café ☕⛳ \nFuel up and hit the range! When you use your ESM Card at Oasis Café\, you’ll receive a coupon for a small bucket of range balls. \nDetails: \n\nCoupon valid for 7 days\nCoupon available only at Oasis Café\nRedeem at the Pro Shop\nOasis Café hours: Monday–Friday | 6:30am–1:30pm\n\nGrab a bite\, swipe your ESM card\, and keep your swing sharp.
URL:https://myhurlburt.com/event/esm-range-balls-coupon/2026-02-14/
LOCATION:Gator Lakes Golf Course\, Bldg. 91300\, 403 Walkup Way\, Hurlburt Field\, FL\, 32544\, United States
CATEGORIES:Gator Lakes Golf Course
ATTACH;FMTTYPE=image/jpeg:https://myhurlburt.com/wp-content/uploads/ESM-Range-Bucket_1080x1080.jpg
END:VEVENT
BEGIN:VEVENT
DTSTART;TZID=America/Chicago:20260215T063000
DTEND;TZID=America/Chicago:20260215T133000
DTSTAMP:20260425T152138
CREATED:20260209T132436Z
LAST-MODIFIED:20260304T121533Z
UID:10016068-1771137000-1771162200@myhurlburt.com
SUMMARY:ESM Range Balls Coupon
DESCRIPTION:ESM Perk at Oasis Café ☕⛳ \nFuel up and hit the range! When you use your ESM Card at Oasis Café\, you’ll receive a coupon for a small bucket of range balls. \nDetails: \n\nCoupon valid for 7 days\nCoupon available only at Oasis Café\nRedeem at the Pro Shop\nOasis Café hours: Monday–Friday | 6:30am–1:30pm\n\nGrab a bite\, swipe your ESM card\, and keep your swing sharp.
URL:https://myhurlburt.com/event/esm-range-balls-coupon/2026-02-15/
LOCATION:Gator Lakes Golf Course\, Bldg. 91300\, 403 Walkup Way\, Hurlburt Field\, FL\, 32544\, United States
CATEGORIES:Gator Lakes Golf Course
ATTACH;FMTTYPE=image/jpeg:https://myhurlburt.com/wp-content/uploads/ESM-Range-Bucket_1080x1080.jpg
END:VEVENT
BEGIN:VEVENT
DTSTART;TZID=America/Chicago:20260216T063000
DTEND;TZID=America/Chicago:20260216T133000
DTSTAMP:20260425T152138
CREATED:20260209T132436Z
LAST-MODIFIED:20260304T121533Z
UID:10016069-1771223400-1771248600@myhurlburt.com
SUMMARY:ESM Range Balls Coupon
DESCRIPTION:ESM Perk at Oasis Café ☕⛳ \nFuel up and hit the range! When you use your ESM Card at Oasis Café\, you’ll receive a coupon for a small bucket of range balls. \nDetails: \n\nCoupon valid for 7 days\nCoupon available only at Oasis Café\nRedeem at the Pro Shop\nOasis Café hours: Monday–Friday | 6:30am–1:30pm\n\nGrab a bite\, swipe your ESM card\, and keep your swing sharp.
URL:https://myhurlburt.com/event/esm-range-balls-coupon/2026-02-16/
LOCATION:Gator Lakes Golf Course\, Bldg. 91300\, 403 Walkup Way\, Hurlburt Field\, FL\, 32544\, United States
CATEGORIES:Gator Lakes Golf Course
ATTACH;FMTTYPE=image/jpeg:https://myhurlburt.com/wp-content/uploads/ESM-Range-Bucket_1080x1080.jpg
END:VEVENT
BEGIN:VEVENT
DTSTART;TZID=America/Chicago:20260217T063000
DTEND;TZID=America/Chicago:20260217T133000
DTSTAMP:20260425T152138
CREATED:20260209T132436Z
LAST-MODIFIED:20260304T121533Z
UID:10016070-1771309800-1771335000@myhurlburt.com
SUMMARY:ESM Range Balls Coupon
DESCRIPTION:ESM Perk at Oasis Café ☕⛳ \nFuel up and hit the range! When you use your ESM Card at Oasis Café\, you’ll receive a coupon for a small bucket of range balls. \nDetails: \n\nCoupon valid for 7 days\nCoupon available only at Oasis Café\nRedeem at the Pro Shop\nOasis Café hours: Monday–Friday | 6:30am–1:30pm\n\nGrab a bite\, swipe your ESM card\, and keep your swing sharp.
URL:https://myhurlburt.com/event/esm-range-balls-coupon/2026-02-17/
LOCATION:Gator Lakes Golf Course\, Bldg. 91300\, 403 Walkup Way\, Hurlburt Field\, FL\, 32544\, United States
CATEGORIES:Gator Lakes Golf Course
ATTACH;FMTTYPE=image/jpeg:https://myhurlburt.com/wp-content/uploads/ESM-Range-Bucket_1080x1080.jpg
END:VEVENT
BEGIN:VEVENT
DTSTART;TZID=America/Chicago:20260218T063000
DTEND;TZID=America/Chicago:20260218T133000
DTSTAMP:20260425T152138
CREATED:20260209T132436Z
LAST-MODIFIED:20260304T121533Z
UID:10016071-1771396200-1771421400@myhurlburt.com
SUMMARY:ESM Range Balls Coupon
DESCRIPTION:ESM Perk at Oasis Café ☕⛳ \nFuel up and hit the range! When you use your ESM Card at Oasis Café\, you’ll receive a coupon for a small bucket of range balls. \nDetails: \n\nCoupon valid for 7 days\nCoupon available only at Oasis Café\nRedeem at the Pro Shop\nOasis Café hours: Monday–Friday | 6:30am–1:30pm\n\nGrab a bite\, swipe your ESM card\, and keep your swing sharp.
URL:https://myhurlburt.com/event/esm-range-balls-coupon/2026-02-18/
LOCATION:Gator Lakes Golf Course\, Bldg. 91300\, 403 Walkup Way\, Hurlburt Field\, FL\, 32544\, United States
CATEGORIES:Gator Lakes Golf Course
ATTACH;FMTTYPE=image/jpeg:https://myhurlburt.com/wp-content/uploads/ESM-Range-Bucket_1080x1080.jpg
END:VEVENT
BEGIN:VEVENT
DTSTART;TZID=America/Chicago:20260219T063000
DTEND;TZID=America/Chicago:20260219T133000
DTSTAMP:20260425T152138
CREATED:20260209T132436Z
LAST-MODIFIED:20260304T121533Z
UID:10016072-1771482600-1771507800@myhurlburt.com
SUMMARY:ESM Range Balls Coupon
DESCRIPTION:ESM Perk at Oasis Café ☕⛳ \nFuel up and hit the range! When you use your ESM Card at Oasis Café\, you’ll receive a coupon for a small bucket of range balls. \nDetails: \n\nCoupon valid for 7 days\nCoupon available only at Oasis Café\nRedeem at the Pro Shop\nOasis Café hours: Monday–Friday | 6:30am–1:30pm\n\nGrab a bite\, swipe your ESM card\, and keep your swing sharp.
URL:https://myhurlburt.com/event/esm-range-balls-coupon/2026-02-19/
LOCATION:Gator Lakes Golf Course\, Bldg. 91300\, 403 Walkup Way\, Hurlburt Field\, FL\, 32544\, United States
CATEGORIES:Gator Lakes Golf Course
ATTACH;FMTTYPE=image/jpeg:https://myhurlburt.com/wp-content/uploads/ESM-Range-Bucket_1080x1080.jpg
END:VEVENT
BEGIN:VEVENT
DTSTART;TZID=America/Chicago:20260220T063000
DTEND;TZID=America/Chicago:20260220T133000
DTSTAMP:20260425T152138
CREATED:20260209T132436Z
LAST-MODIFIED:20260304T121533Z
UID:10016073-1771569000-1771594200@myhurlburt.com
SUMMARY:ESM Range Balls Coupon
DESCRIPTION:ESM Perk at Oasis Café ☕⛳ \nFuel up and hit the range! When you use your ESM Card at Oasis Café\, you’ll receive a coupon for a small bucket of range balls. \nDetails: \n\nCoupon valid for 7 days\nCoupon available only at Oasis Café\nRedeem at the Pro Shop\nOasis Café hours: Monday–Friday | 6:30am–1:30pm\n\nGrab a bite\, swipe your ESM card\, and keep your swing sharp.
URL:https://myhurlburt.com/event/esm-range-balls-coupon/2026-02-20/
LOCATION:Gator Lakes Golf Course\, Bldg. 91300\, 403 Walkup Way\, Hurlburt Field\, FL\, 32544\, United States
CATEGORIES:Gator Lakes Golf Course
ATTACH;FMTTYPE=image/jpeg:https://myhurlburt.com/wp-content/uploads/ESM-Range-Bucket_1080x1080.jpg
END:VEVENT
BEGIN:VEVENT
DTSTART;TZID=America/Chicago:20260221T063000
DTEND;TZID=America/Chicago:20260221T133000
DTSTAMP:20260425T152138
CREATED:20260209T132436Z
LAST-MODIFIED:20260304T121533Z
UID:10016074-1771655400-1771680600@myhurlburt.com
SUMMARY:ESM Range Balls Coupon
DESCRIPTION:ESM Perk at Oasis Café ☕⛳ \nFuel up and hit the range! When you use your ESM Card at Oasis Café\, you’ll receive a coupon for a small bucket of range balls. \nDetails: \n\nCoupon valid for 7 days\nCoupon available only at Oasis Café\nRedeem at the Pro Shop\nOasis Café hours: Monday–Friday | 6:30am–1:30pm\n\nGrab a bite\, swipe your ESM card\, and keep your swing sharp.
URL:https://myhurlburt.com/event/esm-range-balls-coupon/2026-02-21/
LOCATION:Gator Lakes Golf Course\, Bldg. 91300\, 403 Walkup Way\, Hurlburt Field\, FL\, 32544\, United States
CATEGORIES:Gator Lakes Golf Course
ATTACH;FMTTYPE=image/jpeg:https://myhurlburt.com/wp-content/uploads/ESM-Range-Bucket_1080x1080.jpg
END:VEVENT
BEGIN:VEVENT
DTSTART;TZID=America/Chicago:20260222T063000
DTEND;TZID=America/Chicago:20260222T133000
DTSTAMP:20260425T152138
CREATED:20260209T132436Z
LAST-MODIFIED:20260304T121533Z
UID:10016075-1771741800-1771767000@myhurlburt.com
SUMMARY:ESM Range Balls Coupon
DESCRIPTION:ESM Perk at Oasis Café ☕⛳ \nFuel up and hit the range! When you use your ESM Card at Oasis Café\, you’ll receive a coupon for a small bucket of range balls. \nDetails: \n\nCoupon valid for 7 days\nCoupon available only at Oasis Café\nRedeem at the Pro Shop\nOasis Café hours: Monday–Friday | 6:30am–1:30pm\n\nGrab a bite\, swipe your ESM card\, and keep your swing sharp.
URL:https://myhurlburt.com/event/esm-range-balls-coupon/2026-02-22/
LOCATION:Gator Lakes Golf Course\, Bldg. 91300\, 403 Walkup Way\, Hurlburt Field\, FL\, 32544\, United States
CATEGORIES:Gator Lakes Golf Course
ATTACH;FMTTYPE=image/jpeg:https://myhurlburt.com/wp-content/uploads/ESM-Range-Bucket_1080x1080.jpg
END:VEVENT
BEGIN:VEVENT
DTSTART;TZID=America/Chicago:20260223T063000
DTEND;TZID=America/Chicago:20260223T133000
DTSTAMP:20260425T152138
CREATED:20260209T132436Z
LAST-MODIFIED:20260304T121533Z
UID:10016076-1771828200-1771853400@myhurlburt.com
SUMMARY:ESM Range Balls Coupon
DESCRIPTION:ESM Perk at Oasis Café ☕⛳ \nFuel up and hit the range! When you use your ESM Card at Oasis Café\, you’ll receive a coupon for a small bucket of range balls. \nDetails: \n\nCoupon valid for 7 days\nCoupon available only at Oasis Café\nRedeem at the Pro Shop\nOasis Café hours: Monday–Friday | 6:30am–1:30pm\n\nGrab a bite\, swipe your ESM card\, and keep your swing sharp.
URL:https://myhurlburt.com/event/esm-range-balls-coupon/2026-02-23/
LOCATION:Gator Lakes Golf Course\, Bldg. 91300\, 403 Walkup Way\, Hurlburt Field\, FL\, 32544\, United States
CATEGORIES:Gator Lakes Golf Course
ATTACH;FMTTYPE=image/jpeg:https://myhurlburt.com/wp-content/uploads/ESM-Range-Bucket_1080x1080.jpg
END:VEVENT
BEGIN:VEVENT
DTSTART;TZID=America/Chicago:20260224T063000
DTEND;TZID=America/Chicago:20260224T133000
DTSTAMP:20260425T152138
CREATED:20260209T132436Z
LAST-MODIFIED:20260304T121533Z
UID:10016077-1771914600-1771939800@myhurlburt.com
SUMMARY:ESM Range Balls Coupon
DESCRIPTION:ESM Perk at Oasis Café ☕⛳ \nFuel up and hit the range! When you use your ESM Card at Oasis Café\, you’ll receive a coupon for a small bucket of range balls. \nDetails: \n\nCoupon valid for 7 days\nCoupon available only at Oasis Café\nRedeem at the Pro Shop\nOasis Café hours: Monday–Friday | 6:30am–1:30pm\n\nGrab a bite\, swipe your ESM card\, and keep your swing sharp.
URL:https://myhurlburt.com/event/esm-range-balls-coupon/2026-02-24/
LOCATION:Gator Lakes Golf Course\, Bldg. 91300\, 403 Walkup Way\, Hurlburt Field\, FL\, 32544\, United States
CATEGORIES:Gator Lakes Golf Course
ATTACH;FMTTYPE=image/jpeg:https://myhurlburt.com/wp-content/uploads/ESM-Range-Bucket_1080x1080.jpg
END:VEVENT
BEGIN:VEVENT
DTSTART;TZID=America/Chicago:20260225T063000
DTEND;TZID=America/Chicago:20260225T133000
DTSTAMP:20260425T152138
CREATED:20260209T132436Z
LAST-MODIFIED:20260304T121533Z
UID:10016078-1772001000-1772026200@myhurlburt.com
SUMMARY:ESM Range Balls Coupon
DESCRIPTION:ESM Perk at Oasis Café ☕⛳ \nFuel up and hit the range! When you use your ESM Card at Oasis Café\, you’ll receive a coupon for a small bucket of range balls. \nDetails: \n\nCoupon valid for 7 days\nCoupon available only at Oasis Café\nRedeem at the Pro Shop\nOasis Café hours: Monday–Friday | 6:30am–1:30pm\n\nGrab a bite\, swipe your ESM card\, and keep your swing sharp.
URL:https://myhurlburt.com/event/esm-range-balls-coupon/2026-02-25/
LOCATION:Gator Lakes Golf Course\, Bldg. 91300\, 403 Walkup Way\, Hurlburt Field\, FL\, 32544\, United States
CATEGORIES:Gator Lakes Golf Course
ATTACH;FMTTYPE=image/jpeg:https://myhurlburt.com/wp-content/uploads/ESM-Range-Bucket_1080x1080.jpg
END:VEVENT
BEGIN:VEVENT
DTSTART;TZID=America/Chicago:20260226T063000
DTEND;TZID=America/Chicago:20260226T133000
DTSTAMP:20260425T152138
CREATED:20260209T132436Z
LAST-MODIFIED:20260304T121533Z
UID:10016079-1772087400-1772112600@myhurlburt.com
SUMMARY:ESM Range Balls Coupon
DESCRIPTION:ESM Perk at Oasis Café ☕⛳ \nFuel up and hit the range! When you use your ESM Card at Oasis Café\, you’ll receive a coupon for a small bucket of range balls. \nDetails: \n\nCoupon valid for 7 days\nCoupon available only at Oasis Café\nRedeem at the Pro Shop\nOasis Café hours: Monday–Friday | 6:30am–1:30pm\n\nGrab a bite\, swipe your ESM card\, and keep your swing sharp.
URL:https://myhurlburt.com/event/esm-range-balls-coupon/2026-02-26/
LOCATION:Gator Lakes Golf Course\, Bldg. 91300\, 403 Walkup Way\, Hurlburt Field\, FL\, 32544\, United States
CATEGORIES:Gator Lakes Golf Course
ATTACH;FMTTYPE=image/jpeg:https://myhurlburt.com/wp-content/uploads/ESM-Range-Bucket_1080x1080.jpg
END:VEVENT
BEGIN:VEVENT
DTSTART;TZID=America/Chicago:20260227T063000
DTEND;TZID=America/Chicago:20260227T133000
DTSTAMP:20260425T152138
CREATED:20260209T132436Z
LAST-MODIFIED:20260304T121533Z
UID:10016080-1772173800-1772199000@myhurlburt.com
SUMMARY:ESM Range Balls Coupon
DESCRIPTION:ESM Perk at Oasis Café ☕⛳ \nFuel up and hit the range! When you use your ESM Card at Oasis Café\, you’ll receive a coupon for a small bucket of range balls. \nDetails: \n\nCoupon valid for 7 days\nCoupon available only at Oasis Café\nRedeem at the Pro Shop\nOasis Café hours: Monday–Friday | 6:30am–1:30pm\n\nGrab a bite\, swipe your ESM card\, and keep your swing sharp.
URL:https://myhurlburt.com/event/esm-range-balls-coupon/2026-02-27/
LOCATION:Gator Lakes Golf Course\, Bldg. 91300\, 403 Walkup Way\, Hurlburt Field\, FL\, 32544\, United States
CATEGORIES:Gator Lakes Golf Course
ATTACH;FMTTYPE=image/jpeg:https://myhurlburt.com/wp-content/uploads/ESM-Range-Bucket_1080x1080.jpg
END:VEVENT
BEGIN:VEVENT
DTSTART;TZID=America/Chicago:20260228T063000
DTEND;TZID=America/Chicago:20260228T133000
DTSTAMP:20260425T152138
CREATED:20260209T132436Z
LAST-MODIFIED:20260304T121533Z
UID:10016081-1772260200-1772285400@myhurlburt.com
SUMMARY:ESM Range Balls Coupon
DESCRIPTION:ESM Perk at Oasis Café ☕⛳ \nFuel up and hit the range! When you use your ESM Card at Oasis Café\, you’ll receive a coupon for a small bucket of range balls. \nDetails: \n\nCoupon valid for 7 days\nCoupon available only at Oasis Café\nRedeem at the Pro Shop\nOasis Café hours: Monday–Friday | 6:30am–1:30pm\n\nGrab a bite\, swipe your ESM card\, and keep your swing sharp.
URL:https://myhurlburt.com/event/esm-range-balls-coupon/2026-02-28/
LOCATION:Gator Lakes Golf Course\, Bldg. 91300\, 403 Walkup Way\, Hurlburt Field\, FL\, 32544\, United States
CATEGORIES:Gator Lakes Golf Course
ATTACH;FMTTYPE=image/jpeg:https://myhurlburt.com/wp-content/uploads/ESM-Range-Bucket_1080x1080.jpg
END:VEVENT
END:VCALENDAR