BEGIN:VCALENDAR
VERSION:2.0
PRODID:-//Hurlburt Field FSS - ECPv6.15.20//NONSGML v1.0//EN
CALSCALE:GREGORIAN
METHOD:PUBLISH
X-ORIGINAL-URL:https://myhurlburt.com
X-WR-CALDESC:Events for Hurlburt Field FSS
REFRESH-INTERVAL;VALUE=DURATION:PT1H
X-Robots-Tag:noindex
X-PUBLISHED-TTL:PT1H
BEGIN:VTIMEZONE
TZID:America/Chicago
BEGIN:DAYLIGHT
TZOFFSETFROM:-0600
TZOFFSETTO:-0500
TZNAME:CDT
DTSTART:20250309T080000
END:DAYLIGHT
BEGIN:STANDARD
TZOFFSETFROM:-0500
TZOFFSETTO:-0600
TZNAME:CST
DTSTART:20251102T070000
END:STANDARD
BEGIN:DAYLIGHT
TZOFFSETFROM:-0600
TZOFFSETTO:-0500
TZNAME:CDT
DTSTART:20260308T080000
END:DAYLIGHT
BEGIN:STANDARD
TZOFFSETFROM:-0500
TZOFFSETTO:-0600
TZNAME:CST
DTSTART:20261101T070000
END:STANDARD
BEGIN:DAYLIGHT
TZOFFSETFROM:-0600
TZOFFSETTO:-0500
TZNAME:CDT
DTSTART:20270314T080000
END:DAYLIGHT
BEGIN:STANDARD
TZOFFSETFROM:-0500
TZOFFSETTO:-0600
TZNAME:CST
DTSTART:20271107T070000
END:STANDARD
END:VTIMEZONE
BEGIN:VEVENT
DTSTART;TZID=America/Chicago:20260509T120000
DTEND;TZID=America/Chicago:20260509T170000
DTSTAMP:20260425T224418
CREATED:20260417T093605Z
LAST-MODIFIED:20260417T093605Z
UID:10017051-1778328000-1778346000@myhurlburt.com
SUMMARY:Mother's Day Bowling
DESCRIPTION:Mother’s Day Bowling\nCelebrate Mom with strikes\, smiles\, and family fun at Hurlburt Lanes! 🎳💐 Treat her to a well-deserved day out and enjoy quality time on the lanes together. \n\n📅 Saturday\, 9 May\n⏰ Noon – 5:00pm\n📍 Hurlburt Lanes Bowling Center \n\n👩‍👧‍👦 Special Offer:\nMothers receive 2 FREE games when bowling with their child(ren)!\nPlease note: Shoe rental is not included. \n\nBring the family\, make some memories\, and roll into a fun-filled Mother’s Day! 💖
URL:https://myhurlburt.com/event/mothers-day-bowling/
LOCATION:Hurlburt Lanes\, 442 Cody Ave\, Hurlburt Field\, FL\, 32544\, United States
CATEGORIES:Hurlburt Lanes
ATTACH;FMTTYPE=image/png:https://myhurlburt.com/wp-content/uploads/Mothers-Day-Bowling-1080x1080-1.png
END:VEVENT
END:VCALENDAR