BEGIN:VCALENDAR
VERSION:2.0
PRODID:-//Hurlburt Field FSS - ECPv6.15.20//NONSGML v1.0//EN
CALSCALE:GREGORIAN
METHOD:PUBLISH
X-WR-CALNAME:Hurlburt Field FSS
X-ORIGINAL-URL:https://myhurlburt.com
X-WR-CALDESC:Events for Hurlburt Field FSS
REFRESH-INTERVAL;VALUE=DURATION:PT1H
X-Robots-Tag:noindex
X-PUBLISHED-TTL:PT1H
BEGIN:VTIMEZONE
TZID:America/Chicago
BEGIN:DAYLIGHT
TZOFFSETFROM:-0600
TZOFFSETTO:-0500
TZNAME:CDT
DTSTART:20250309T080000
END:DAYLIGHT
BEGIN:STANDARD
TZOFFSETFROM:-0500
TZOFFSETTO:-0600
TZNAME:CST
DTSTART:20251102T070000
END:STANDARD
BEGIN:DAYLIGHT
TZOFFSETFROM:-0600
TZOFFSETTO:-0500
TZNAME:CDT
DTSTART:20260308T080000
END:DAYLIGHT
BEGIN:STANDARD
TZOFFSETFROM:-0500
TZOFFSETTO:-0600
TZNAME:CST
DTSTART:20261101T070000
END:STANDARD
BEGIN:DAYLIGHT
TZOFFSETFROM:-0600
TZOFFSETTO:-0500
TZNAME:CDT
DTSTART:20270314T080000
END:DAYLIGHT
BEGIN:STANDARD
TZOFFSETFROM:-0500
TZOFFSETTO:-0600
TZNAME:CST
DTSTART:20271107T070000
END:STANDARD
END:VTIMEZONE
BEGIN:VEVENT
DTSTART;TZID=America/Chicago:20260428T163000
DTEND;TZID=America/Chicago:20260428T173000
DTSTAMP:20260425T134116
CREATED:20260203T115809Z
LAST-MODIFIED:20260219T100854Z
UID:10016037-1777393800-1777397400@myhurlburt.com
SUMMARY:Future Stars - April Session
DESCRIPTION:April Sessions are full. Summer Sessions will be available soon. \n\n🌟 Future Stars – April Session 🌟 \nGive your young golfer a fun and confidence-building start this spring! Our Future Stars program follows the U.S. Kids Golf Player Pathway\, offering achievement-based guidance designed to help players of all skill levels grow\, learn\, and love the game. Each session blends professional instruction with exciting activities to build strong fundamentals in a supportive\, upbeat environment. \n🗓 Dates: April 7–28\n⏰ Time: Tuesdays at 4:30 PM\n👧🧒 Ages: 6–12 years\n📍 Format: 4-week program | 60-minute classes\n👥 Class Size: Max 8 juniors per class (space is limited!) \n💲 Cost: \n\n$100 per player (current program participants)\n$120 per new player\nFamily Discount: 20% off siblings\n\n  \n✨ What’s Included:\nProfessional instruction\, skill development\, and plenty of fun\, engaging activities to keep young players excited and motivated. \n  \nCheck back in for Summer Session dates & registration! \n  \n📞 Questions? Call the Pro Shop at (850) 881-2251
URL:https://myhurlburt.com/event/future-stars-april-session/2026-04-28/
LOCATION:Gator Lakes Golf Course\, Bldg. 91300\, 403 Walkup Way\, Hurlburt Field\, FL\, 32544\, United States
CATEGORIES:Gator Lakes Golf Course
ATTACH;FMTTYPE=image/jpeg:https://myhurlburt.com/wp-content/uploads/Future-Stars-April_1080x1080.jpg
END:VEVENT
END:VCALENDAR