BEGIN:VCALENDAR
VERSION:2.0
PRODID:-//Hurlburt Field FSS - ECPv6.15.20//NONSGML v1.0//EN
CALSCALE:GREGORIAN
METHOD:PUBLISH
X-WR-CALNAME:Hurlburt Field FSS
X-ORIGINAL-URL:https://myhurlburt.com
X-WR-CALDESC:Events for Hurlburt Field FSS
REFRESH-INTERVAL;VALUE=DURATION:PT1H
X-Robots-Tag:noindex
X-PUBLISHED-TTL:PT1H
BEGIN:VTIMEZONE
TZID:America/Chicago
BEGIN:DAYLIGHT
TZOFFSETFROM:-0600
TZOFFSETTO:-0500
TZNAME:CDT
DTSTART:20250309T080000
END:DAYLIGHT
BEGIN:STANDARD
TZOFFSETFROM:-0500
TZOFFSETTO:-0600
TZNAME:CST
DTSTART:20251102T070000
END:STANDARD
BEGIN:DAYLIGHT
TZOFFSETFROM:-0600
TZOFFSETTO:-0500
TZNAME:CDT
DTSTART:20260308T080000
END:DAYLIGHT
BEGIN:STANDARD
TZOFFSETFROM:-0500
TZOFFSETTO:-0600
TZNAME:CST
DTSTART:20261101T070000
END:STANDARD
BEGIN:DAYLIGHT
TZOFFSETFROM:-0600
TZOFFSETTO:-0500
TZNAME:CDT
DTSTART:20270314T080000
END:DAYLIGHT
BEGIN:STANDARD
TZOFFSETFROM:-0500
TZOFFSETTO:-0600
TZNAME:CST
DTSTART:20271107T070000
END:STANDARD
END:VTIMEZONE
BEGIN:VEVENT
DTSTART;VALUE=DATE:20260225
DTEND;VALUE=DATE:20260530
DTSTAMP:20260425T133628
CREATED:20260224T111719Z
LAST-MODIFIED:20260224T111719Z
UID:10016571-1771977600-1780099199@myhurlburt.com
SUMMARY:Future Stars - Summer Camps
DESCRIPTION:☀️⛳ Future Stars – Summer Camps\nFeaturing the U.S. Kids Golf Player Pathway Program \nGive your junior golfer a summer full of swings\, smiles\, and skill-building at Gator Lakes Golf Course! Designed for ages 6–12\, these 3-day camps combine professional instruction with fun\, engaging activities that help young players grow their confidence and improve their game. \n📍 Location: Gator Lakes Golf Course\n⏱ Format: 3-Day Camp | 90-minute classes\n👥 Limited to 6 juniors per class (small-group instruction)\n🍎 Includes 1 fruit each day \n🗓 Camp Dates & Times:\n\n2-4 June: 8:30–10:00am\n4-6 June: 5:00–6:30pm\nGirls Only | 18-20 June: 8:30–10:00am\n23-25 June: 5:00–6:30pm\n7-9 July: 8:30–10:00am\nAges 10–12 | 9-11 July: 5:00–6:30pm\n21-23 July: 5:00–6:30pm\n23-25 July: 8:30–10:00am\n\n💲 Cost:\n\n$125 – New Players\n$110 – Current Players\n\n✨ Save 20% on siblings and on a second camp! \nSpots are limited and fill quickly! Register Now!\n📝 Pre-registration and payment required \n📞 For more information\, call (850) 881-2251 or visit the Pro Shop.
URL:https://myhurlburt.com/event/future-stars-summer-camps/
LOCATION:Gator Lakes Golf Course\, Bldg. 91300\, 403 Walkup Way\, Hurlburt Field\, FL\, 32544\, United States
CATEGORIES:Gator Lakes Golf Course
ATTACH;FMTTYPE=image/jpeg:https://myhurlburt.com/wp-content/uploads/Future-Stars-Summer_1080x1080.jpg
END:VEVENT
BEGIN:VEVENT
DTSTART;VALUE=DATE:20260413
DTEND;VALUE=DATE:20260504
DTSTAMP:20260425T133628
CREATED:20260413T131604Z
LAST-MODIFIED:20260421T125000Z
UID:10017025-1776038400-1777852799@myhurlburt.com
SUMMARY:Apply for Teen Aviation Camp & US Space & Rocket Center Camp
DESCRIPTION:🚀 Now Accepting Applications for 2026 Air Force Youth Summer Camps! ✈️ \nGive your teen an unforgettable summer filled with adventure\, leadership\, and hands-on learning! The Air Force Services Center Child & Youth Programs is now accepting applications for two incredible residential camp experiences: \n🌟 Teen Aviation Camp (Ages 14–16)\n📍 U.S. Air Force Academy \n\nFor students who have completed their freshman or sophomore year\nExplore aviation\, engineering\, science\, and leadership\nExperience life at the Air Force Academy\n\n🌌 Space & Rocket Center Camps (Ages 12–18)\n📍 Huntsville\, Alabama \n\nDive into space\, science\, and technology careers\nPrograms include Aviation Challenge\, Space Academy & Cyber Academy\nScholarships available!\n\n🗓 Application Deadline: May 3\, 2026\n📢 Notification Date: By May 13\, 2026 \n📧 Submit completed applications (by parent/guardian):\nAFSVC.SVPY.Camps@us.af.mil \nCamp-Information-Sheet \n📞 Questions? Contact:\nMr. Robert Ramirez – 385-637-8141\nMs. Mona Hamilton – 380-457-9370 \nDon’t miss this chance to launch your teen’s future—apply today! 🚀
URL:https://myhurlburt.com/event/af-camps/
LOCATION:Hurlburt Field Youth Programs\, 117 McMillan St\, Hurlburt Field\, FL\, 32544\, United States
CATEGORIES:Youth Programs
ATTACH;FMTTYPE=image/jpeg:https://myhurlburt.com/wp-content/uploads/AdobeStock_792484118-scaled.jpeg
END:VEVENT
BEGIN:VEVENT
DTSTART;VALUE=DATE:20260413
DTEND;VALUE=DATE:20260729
DTSTAMP:20260425T133628
CREATED:20260413T145503Z
LAST-MODIFIED:20260421T124955Z
UID:10017026-1776038400-1785283199@myhurlburt.com
SUMMARY:Apply for Summer Specialty Camps
DESCRIPTION:🌞🎮🏕️ SUMMER SPECIALTY CAMPS ARE HERE! ⚽💪 \nLooking for something fun\, active\, and FREE for your kids this summer? Hurlburt Field Youth Programs has you covered! \n✨ Camps for ages 9–18:\n🎮 Digital Game Design Camp (Jun 29 – Jul 3)\n🌲 Survival Camp (Jul 13 – Jul 17)\n⚽ Soccer Camp (Jul 15 – Jul 19)\n💪 Fitness Camp (Jul 15 – Jul 19) \n🏈 MVP 360 Flag Football (Aug 3 – Aug 7) — Only $30! \n✅ FREE camps (except Flag Football!)\n✅ Fun\, skills\, and new friendships\n✅ Safe\, structured environment \n📌 Register now on CYPBMS!\n⚠️ Sports camps require an up-to-date physical\n💉 All camps require current immunizations \n📞 (850) 884-6355\n📍 117 McMillan St \nSpots fill fast—don’t miss out on an unforgettable summer! 🌟
URL:https://myhurlburt.com/event/summer-camps/
LOCATION:Hurlburt Field Youth Programs\, 117 McMillan St\, Hurlburt Field\, FL\, 32544\, United States
CATEGORIES:Youth Programs
ATTACH;FMTTYPE=image/jpeg:https://myhurlburt.com/wp-content/uploads/26_Summer-Specialty-Camps_1080x1080.jpg
END:VEVENT
BEGIN:VEVENT
DTSTART;TZID=America/Chicago:20260425T063000
DTEND;TZID=America/Chicago:20260425T133000
DTSTAMP:20260425T133628
CREATED:20260209T132436Z
LAST-MODIFIED:20260304T121533Z
UID:10016137-1777098600-1777123800@myhurlburt.com
SUMMARY:ESM Range Balls Coupon
DESCRIPTION:ESM Perk at Oasis Café ☕⛳ \nFuel up and hit the range! When you use your ESM Card at Oasis Café\, you’ll receive a coupon for a small bucket of range balls. \nDetails: \n\nCoupon valid for 7 days\nCoupon available only at Oasis Café\nRedeem at the Pro Shop\nOasis Café hours: Monday–Friday | 6:30am–1:30pm\n\nGrab a bite\, swipe your ESM card\, and keep your swing sharp.
URL:https://myhurlburt.com/event/esm-range-balls-coupon/2026-04-25/
LOCATION:Gator Lakes Golf Course\, Bldg. 91300\, 403 Walkup Way\, Hurlburt Field\, FL\, 32544\, United States
CATEGORIES:Gator Lakes Golf Course
ATTACH;FMTTYPE=image/jpeg:https://myhurlburt.com/wp-content/uploads/ESM-Range-Bucket_1080x1080.jpg
END:VEVENT
BEGIN:VEVENT
DTSTART;TZID=America/Chicago:20260425T100000
DTEND;TZID=America/Chicago:20260425T173000
DTSTAMP:20260425T133628
CREATED:20250219T220459Z
LAST-MODIFIED:20260324T123252Z
UID:10013581-1777111200-1777138200@myhurlburt.com
SUMMARY:Junior-E Golf-4-Free
DESCRIPTION:NEW! Saturdays after 10 AM | Free greens fees (E1-E4)⛳\nSpace available basis\, tee times encouraged!\nProgram may be canceled at golf manager’s discretion. \nSpend at least $5 on food from Oasis Café and receive a discount on your cart fee!🛺\nMust provide the pro shop with a receipt from Oasis Café\, purchased on that day. Cart fees will only be $10.
URL:https://myhurlburt.com/event/junior-e-golf-4-free-2/2026-04-25/
LOCATION:Gator Lakes Golf Course\, Bldg. 91300\, 403 Walkup Way\, Hurlburt Field\, FL\, 32544\, United States
CATEGORIES:Gator Lakes Golf Course
ATTACH;FMTTYPE=image/jpeg:https://myhurlburt.com/wp-content/uploads/25_Junior-E-Golf-4-Free_1080x1080_NO-TITLE.jpg
END:VEVENT
BEGIN:VEVENT
DTSTART;TZID=America/Chicago:20260425T170000
DTEND;TZID=America/Chicago:20260425T210000
DTSTAMP:20260425T133628
CREATED:20240328T210843Z
LAST-MODIFIED:20251112T163413Z
UID:10013114-1777136400-1777150800@myhurlburt.com
SUMMARY:Family Cosmic Bowling
DESCRIPTION:Enjoy some family fun with Cosmic Bowling at Hurlburt Lanes! \nEvery Saturday from 5 – 9pm \n\nRent a Lane – $25/hour (up to 6 people)\nShoe Rental – $3.75/person\n\nQuestions? Contact Hurlburt Lanes at (850) 884-6941
URL:https://myhurlburt.com/event/family-cosmic-bowling/2026-04-25/
LOCATION:Hurlburt Lanes\, 442 Cody Ave\, Hurlburt Field\, FL\, 32544\, United States
CATEGORIES:Hurlburt Lanes
ATTACH;FMTTYPE=image/jpeg:https://myhurlburt.com/wp-content/uploads/Famcosmic-Bowling-1080x1080-1.jpg
END:VEVENT
END:VCALENDAR